BEGIN:VCALENDAR
VERSION:2.0
PRODID:-//Fast North Corp//Race Roster
CALSCALE:GREGORIAN
BEGIN:VEVENT
UID:878676_40bbb53e-ee26-4751-9cb2-02d813957fef_1776759990@raceroster.com
DTSTAMP:20260421T082630Z
SUMMARY:2026 Festival Foods Turkey Trot Milwaukee
DTSTART;TZID=America/Chicago:20261126T080000
DTEND;TZID=America/Chicago:20261126T110000
URL;VALUE=URI:https://milwaukee.festivalfoodsturkeytrot.com
 -turkey-trot-milwaukee
DESCRIPTION:See all event details at https://raceroster.com/events/2026/113
 849/2026-festival-foods-turkey-trot-milwaukee
LOCATION:American Family Field\, Brewers Way\, Milwaukee\, WI
END:VEVENT
END:VCALENDAR
